BEGIN:VCALENDAR
VERSION:2.0
PRODID:-//Junior Citizens&#039; Academy - ECPv4.6.20.1//NONSGML v1.0//EN
CALSCALE:GREGORIAN
METHOD:PUBLISH
X-WR-CALNAME:Junior Citizens&#039; Academy
X-ORIGINAL-URL:http://jca.edu.np
X-WR-CALDESC:Events for Junior Citizens&#039; Academy
BEGIN:VEVENT
DTSTART;TZID=UTC+0:20160826T080000
DTEND;TZID=UTC+0:20160826T170000
DTSTAMP:20180901T101213
CREATED:20160521T232939Z
LAST-MODIFIED:20160521T232939Z
UID:8764-1472198400-1472230800@jca.edu.np
SUMMARY:Drawing Competition
DESCRIPTION:
URL:http://jca.edu.np/event/drawing-competition/
LOCATION:Lekhnath\, Lekhnath\, Kaski\, Nepal
CATEGORIES:B. primary,primary,Secondary,Student
END:VEVENT
END:VCALENDAR