BEGIN:VCALENDAR
VERSION:2.0
PRODID:-//Junior Citizens&#039; Academy - ECPv4.6.20.1//NONSGML v1.0//EN
CALSCALE:GREGORIAN
METHOD:PUBLISH
X-WR-CALNAME:Junior Citizens&#039; Academy
X-ORIGINAL-URL:http://jca.edu.np
X-WR-CALDESC:Events for Junior Citizens&#039; Academy
BEGIN:VEVENT
DTSTART;TZID=UTC+0:20160722T080000
DTEND;TZID=UTC+0:20160722T170000
DTSTAMP:20180901T101120
CREATED:20160521T232520Z
LAST-MODIFIED:20160521T232520Z
UID:8761-1469174400-1469206800@jca.edu.np
SUMMARY:English Spelling Competition
DESCRIPTION:
URL:http://jca.edu.np/event/english-spelling-competition/
LOCATION:Lekhnath\, Lekhnath\, Kaski\, Nepal
CATEGORIES:B. primary,primary,Secondary,Student
END:VEVENT
END:VCALENDAR