BEGIN:VCALENDAR
VERSION:2.0
PRODID:-//Junior Citizens&#039; Academy - ECPv4.6.20.1//NONSGML v1.0//EN
CALSCALE:GREGORIAN
METHOD:PUBLISH
X-WR-CALNAME:Junior Citizens&#039; Academy
X-ORIGINAL-URL:http://jca.edu.np
X-WR-CALDESC:Events for Junior Citizens&#039; Academy
BEGIN:VEVENT
DTSTART;TZID=UTC+0:20171201T031000
DTEND;TZID=UTC+0:20171201T160000
DTSTAMP:20180901T100554
CREATED:20171112T072719Z
LAST-MODIFIED:20171112T074009Z
UID:9032-1512097800-1512144000@jca.edu.np
SUMMARY:General staff meeting
DESCRIPTION:
URL:http://jca.edu.np/event/general-staff-meeting/
LOCATION:Lekhnath\, Lekhnath\, Kaski\, Nepal
CATEGORIES:Teachers
END:VEVENT
END:VCALENDAR