BEGIN:VCALENDAR
VERSION:2.0
PRODID:-//Junior Citizens&#039; Academy - ECPv4.6.20.1//NONSGML v1.0//EN
CALSCALE:GREGORIAN
METHOD:PUBLISH
X-WR-CALNAME:Junior Citizens&#039; Academy
X-ORIGINAL-URL:http://jca.edu.np
X-WR-CALDESC:Events for Junior Citizens&#039; Academy
BEGIN:VEVENT
DTSTART;TZID=UTC+0:20171124T151000
DTEND;TZID=UTC+0:20171124T160000
DTSTAMP:20180901T100515
CREATED:20171112T065804Z
LAST-MODIFIED:20171112T070931Z
UID:9019-1511536200-1511539200@jca.edu.np
SUMMARY:HODs meeting
DESCRIPTION:
URL:http://jca.edu.np/event/hods-meeting/
LOCATION:Lekhnath\, Lekhnath\, Kaski\, Nepal
CATEGORIES:HODs
END:VEVENT
END:VCALENDAR