BEGIN:VCALENDAR
VERSION:2.0
PRODID:-//Junior Citizens&#039; Academy - ECPv4.6.20.1//NONSGML v1.0//EN
CALSCALE:GREGORIAN
METHOD:PUBLISH
X-WR-CALNAME:Junior Citizens&#039; Academy
X-ORIGINAL-URL:http://jca.edu.np
X-WR-CALDESC:Events for Junior Citizens&#039; Academy
BEGIN:VEVENT
DTSTART;TZID=UTC+0:20160825T080000
DTEND;TZID=UTC+0:20160827T170000
DTSTAMP:20180901T101201
CREATED:20160521T233039Z
LAST-MODIFIED:20160521T233039Z
UID:8765-1472112000-1472317200@jca.edu.np
SUMMARY:PABSON English Spelling Competition
DESCRIPTION:
URL:http://jca.edu.np/event/pabson-english-spelling-competition/
LOCATION:Lekhnath\, Lekhnath\, Kaski\, Nepal
CATEGORIES:Lower Secondary,Student
END:VEVENT
END:VCALENDAR